BEGIN:VCALENDAR
VERSION:2.0
PRODID:-//Welcome to - ECPv6.13.2.1//NONSGML v1.0//EN
CALSCALE:GREGORIAN
METHOD:PUBLISH
X-ORIGINAL-URL:https://www.mpuele.gov.bz
X-WR-CALDESC:Events for Welcome to
REFRESH-INTERVAL;VALUE=DURATION:PT1H
X-Robots-Tag:noindex
X-PUBLISHED-TTL:PT1H
BEGIN:VTIMEZONE
TZID:UTC
BEGIN:STANDARD
TZOFFSETFROM:+0000
TZOFFSETTO:+0000
TZNAME:UTC
DTSTART:20230101T000000
END:STANDARD
END:VTIMEZONE
BEGIN:VEVENT
DTSTART;TZID=UTC:20230210T090000
DTEND;TZID=UTC:20230210T110000
DTSTAMP:20260423T103840
CREATED:20180215T103050Z
LAST-MODIFIED:20230203T021353Z
UID:4860-1676019600-1676026800@www.mpuele.gov.bz
SUMMARY:National Data Strategy Stakeholder Workshop
DESCRIPTION:[vc_row][vc_column width=”1/6″][/vc_column][vc_column width=”2/3″][vc_empty_space height=”60px”][vc_custom_heading source=”post_title” font_container=”tag:h2|font_size:36px|text_align:center|color:%23273272|line_height:40px” use_theme_fonts=”yes” css=”.vc_custom_1518856008411{margin-top: 0px !important;margin-bottom: 0px !important;padding-top: 40px !important;padding-right: 40px !important;padding-bottom: 40px !important;padding-left: 40px !important;}”][vc_empty_space height=”45px”][vc_single_image source=”featured_image” img_size=”full” alignment=”center”][vc_empty_space height=”60px”][/vc_column][vc_column width=”1/6″][/vc_column][/vc_row]
URL:https://www.mpuele.gov.bz/event/national-data-strategy-stakeholder-workshop/
LOCATION:Ministry of Sustainable Development\,  Climate Change\, and Disaster Risk  Management Auditorium\, Belmopan City\, 7552 Hummingbird Highway\, Belmopan\, Belize
ATTACH;FMTTYPE=image/jpeg:https://www.mpuele.gov.bz/wp-content/uploads/2018/02/National-Data-Stakeholder-Workshop_Invite_Final.jpg
ORGANIZER;CN="Jason Walker":MAILTO:info@example.com
END:VEVENT
BEGIN:VEVENT
DTSTART;TZID=UTC:20230207T143000
DTEND;TZID=UTC:20230207T153000
DTSTAMP:20260423T103840
CREATED:20230203T021236Z
LAST-MODIFIED:20230203T021236Z
UID:14116-1675780200-1675783800@www.mpuele.gov.bz
SUMMARY:The Digital Transformation in Belize Course Cohort 3 Award Ceremony
DESCRIPTION:[vc_row][vc_column width=”1/6″][/vc_column][vc_column width=”2/3″][vc_empty_space height=”60px”][vc_custom_heading source=”post_title” font_container=”tag:h2|font_size:36px|text_align:center|color:%23273272|line_height:40px” use_theme_fonts=”yes” css=”.vc_custom_1518856008411{margin-top: 0px !important;margin-bottom: 0px !important;padding-top: 40px !important;padding-right: 40px !important;padding-bottom: 40px !important;padding-left: 40px !important;}”][vc_empty_space height=”45px”][vc_single_image source=”featured_image” img_size=”full” alignment=”center”][vc_empty_space height=”60px”][/vc_column][vc_column width=”1/6″][/vc_column][/vc_row]
URL:https://www.mpuele.gov.bz/event/the-digital-transformation-in-belize-course-cohort-3-award-ceremony/
LOCATION:Ministry of Sustainable Development\,  Climate Change\, and Disaster Risk  Management Auditorium\, Belmopan City\, 7552 Hummingbird Highway\, Belmopan\, Belize
ATTACH;FMTTYPE=image/jpeg:https://www.mpuele.gov.bz/wp-content/uploads/2023/02/Invitation_AwardCeremony_Cohort3.jpg
ORGANIZER;CN="Jason Walker":MAILTO:info@example.com
END:VEVENT
END:VCALENDAR